{"text_format":"1","workbook":"xlsx","n_sheets":2,"sheets":["Prime Budget","Other Orgs"],"not_rendered":{"charts":0,"images":0,"macros":0,"external_links":0,"defined_names":13,"comments":0,"pivot_tables":0},"unopened":[],"bounds":{"document_bytes":16777216,"sheet_cells":100000,"rows_first":2000,"rows_last":500,"rows_between":2000,"halvings":0,"cell_chars":16384,"cell_head_chars":4096},"cells_cut":0,"cells_raw":0,"read":"whole","date_system":"1900"}

{"sheet":"Prime Budget","index":0,"n_rows":63,"n_cols":17,"rows_kept":63,"cut":false,"hidden":false,"merged":[[61,0,61,16],[62,0,62,16],[63,0,63,16],[18,5,18,6],[30,9,30,10],[48,9,48,10],[43,9,43,10],[18,11,18,12],[37,13,37,14],[38,13,41,13],[42,13,42,14],[30,13,30,14],[43,0,43,2],[57,0,57,2],[21,0,21,2],[23,0,23,2],[30,15,30,16],[59,0,59,2],[25,15,25,16],[21,15,23,15],[19,15,20,16],[48,0,48,2],[48,3,48,4],[43,3,43,4],[22,0,22,2],[25,0,25,2],[28,0,28,2],[29,0,29,2],[18,7,18,8],[52,0,52,2],[4,13,4,14],[18,13,18,14],[4,11,4,12],[5,11,5,12],[27,0,27,2],[5,0,5,2],[21,7,23,7],[21,9,23,9],[26,5,29,5],[26,7,29,7],[25,5,25,6],[25,7,25,8],[42,0,42,2],[42,3,42,4],[30,5,30,6],[25,3,25,4],[49,0,49,2],[2,0,2,16],[4,15,4,16],[5,15,5,16],[4,0,4,2],[5,3,5,4],[5,5,5,6],[5,7,5,8],[5,9,5,10],[18,0,18,2],[18,3,18,4],[4,7,4,8],[4,9,4,10],[5,13,5,14],[17,0,17,2],[18,15,18,16],[18,9,18,10],[4,3,4,6],[24,0,24,2],[30,0,30,2],[58,0,58,2],[48,7,48,8],[44,7,47,7],[24,15,24,16],[26,15,29,15],[26,9,29,9],[25,9,25,10],[25,13,25,14],[26,13,29,13],[25,11,25,12],[26,11,29,11],[43,15,43,16],[43,13,43,14],[44,13,47,13],[44,5,47,5],[43,5,43,6],[43,7,43,8],[42,15,42,16],[37,7,37,8],[42,9,42,10],[37,15,37,16],[38,15,41,15],[19,5,20,6],[21,3,23,3],[21,5,23,5],[24,7,24,8],[19,9,20,10],[24,9,24,10],[19,13,20,14],[21,13,23,13],[24,13,24,14],[19,11,20,12],[21,11,23,11],[24,11,24,12],[38,5,41,5],[37,5,37,6],[42,5,42,6],[30,11,30,12],[59,3,59,4],[59,5,59,6],[59,7,59,8],[44,3,47,3],[37,11,37,12],[38,11,41,11],[42,11,42,12],[31,11,31,12],[36,11,36,12],[43,11,43,12],[59,15,59,16],[49,9,49,10],[49,3,49,4],[49,15,49,16],[59,11,59,12],[48,15,48,16],[44,11,47,11],[48,11,48,12],[49,11,49,12],[44,15,47,15],[44,9,47,9],[49,5,49,6],[49,7,49,8],[48,5,48,6],[59,13,59,14],[59,9,59,10],[48,13,48,14],[49,13,49,14],[19,0,20,2],[19,3,20,4],[24,3,24,4],[24,5,24,6],[26,0,26,2],[42,7,42,8],[37,9,37,10],[31,3,31,4],[31,5,31,6],[31,7,31,8],[31,9,31,10],[36,0,36,2],[36,3,36,4],[36,5,36,6],[36,7,36,8],[36,9,36,10],[38,3,41,3],[37,3,37,4],[30,3,30,4],[30,7,30,8],[19,7,20,8],[26,3,29,3],[38,7,41,7],[38,9,41,9],[36,13,36,14],[36,15,36,16],[31,13,31,14],[31,15,31,16],[32,3,35,3],[32,5,35,5],[32,7,35,7],[32,9,35,9],[32,11,35,11],[32,13,35,13],[32,15,35,15]]}
[]
[]
["Prime Contract Budget Detail ACPTP Project No. _______________"]
[]
[null,null,null,null,null,null,null,null,null,null,null,null,null,null,null,"Total"]
["(a) Salaries and Wages (Prime)\n",null,null,"Task",null,"Task",null,"Task",null,"Task",null,"Task",null,"Task"]
["Name","Role in Study"," Hourly Rate","Hours","Cost","Hours","Cost","Hours","Cost","Hours","Cost","Hours","Cost","Hours","Cost","Hours","Cost"]
[null,null,0,null,{"$f":"+$C8*D8","v":0},null,{"$f":"+$C8*F8","v":0},null,{"$f":"+$C8*H8","v":0},null,{"$f":"+$C8*J8","v":0},null,{"$f":"+$C8*L8","v":0},null,{"$f":"+$C8*N8","v":0},{"$f":"D8+F8+H8+J8+L8+N8","v":0},{"$f":"C8*P8","v":0}]
[null,null,0,null,{"$f":"+$C9*D9","v":0},null,{"$f":"+$C9*F9","v":0},null,{"$f":"+$C9*H9","v":0},null,{"$f":"+$C9*J9","v":0},null,{"$f":"+$C9*L9","v":0},null,{"$f":"+$C9*N9","v":0},{"$f":"D9+F9+H9+J9","v":0},{"$f":"C9*P9","v":0}]
[null,null,0,null,0,null,0,null,0,null,0,null,0,null,0,0,0]
[null,null,0,null,0,null,0,null,0,null,0,null,0,null,0,0,0]
[null,null,null,null,0,null,0,null,0,null,0,null,0,null,0,0,0]
[null,null,null,null,0,null,0,null,0,null,0,0,0,0,0,0,{"$f":"C13*J13","v":0}]
[null,null,null,null,0,null,0,null,0,null,0,null,0,null,0,0,0]
[null,null,null,null,0,null,0,null,0,null,0,null,0,null,0,0,0]
[null,null,null,null,0,null,0,null,0,null,0,null,0,null,0,0,0]
[null,null,null,null,0,null,0,null,0,null,0,null,0,null,0,0,0]
["Subtotal",null,null,{"$f":"SUM(D8:D17)","v":0},0,0,0,0,{"$f":"SUM(I8:I17)","v":0},0,0,0,0,0,0,{"$f":"SUM(P8:P17)","v":0},{"$f":"SUM(Q8:Q17)","v":0}]
[]
["(b) Consultants"]
[]
["-",null,null,null,0,null,0,null,0,null,0,null,0,null,0,null,{"$f":"E22+G22+I22+K22+M22+O22","v":0}]
["-",null,null,null,0,null,0,null,0,null,0,null,0,null,0,null,{"$f":"E23+G23+I23+K23+M23+O23","v":0}]
["Subtotal",null,null,null,{"$f":"SUM(E22:E23)","v":0},null,{"$f":"SUM(G22:G23)","v":0},null,{"$f":"SUM(I22:I23)","v":0},null,{"$f":"SUM(K22:K23)","v":0},null,{"$f":"SUM(M22:M23)","v":0},null,{"$f":"SUM(O22:O23)","v":0},null,{"$f":"SUM(Q22:Q23)","v":0}]
[]
["(c ) Subcontracts "]
["-",null,null,null,0,null,0,null,0,null,0,null,0,null,0,null,{"$f":"E27+G27+I27+K27+M27+O27","v":0}]
["-",null,null,null,0,null,0,null,0,null,0,null,0,null,0,null,{"$f":"E28+G28+I28+K28+M28+O28","v":0}]
["-",null,null,null,0,null,0,null,0,null,0,null,0,null,0,null,{"$f":"E29+G29+I29+K29+M29+O29","v":0}]
["Subtotal",null,null,null,{"$f":"SUM(E27:E29)","v":0},null,{"$f":"SUM(G27:G29)","v":0},null,{"$f":"SUM(I27:I29)","v":0},null,{"$f":"SUM(K27:K29)","v":0},null,{"$f":"SUM(M27:M29)","v":0},null,{"$f":"SUM(O27:O29)","v":0},null,{"$f":"SUM(Q27:Q29)","v":0}]
[]
["(d) Materials and Supplies (Prime)"]
[null,null,null,null,0,null,0,null,0,null,0,null,0,null,0,null,{"$f":"E33+G33+I33+K33+M33+O33","v":0}]
[null,null,null,null,0,null,0,null,0,null,0,null,0,null,0,null,{"$f":"E34+G34+I34+K34+M34+O34","v":0}]
[null,null,null,null,0,null,0,null,0,null,0,null,0,null,0,null,0]
["Subtotal",null,null,null,{"$f":"SUM(E33:E35)","v":0},null,{"$f":"SUM(G33:G35)","v":0},null,{"$f":"SUM(I33:I35)","v":0},null,{"$f":"SUM(K33:K35)","v":0},null,{"$f":"SUM(M33:M35)","v":0},null,{"$f":"SUM(O33:O35)","v":0},null,{"$f":"SUM(Q33:Q35)","v":0}]
[]
["(e) Services (Prime)"]
[null,null,null,null,0,null,0,null,0,null,0,null,0,null,0,null,{"$f":"E39+G39+I39+K39+M39+O39","v":0}]
[null,null,null,null,0,null,0,null,0,null,0,null,0,null,0,null,{"$f":"E40+G40+I40+K40+M40+O40","v":0}]
[null,null,null,null,0,null,0,null,0,null,0,null,0,null,0,null,0]
["Subtotal",null,null,null,{"$f":"SUM(E39:E41)","v":0},null,{"$f":"SUM(G39:G41)","v":0},null,{"$f":"SUM(I39:I41)","v":0},null,{"$f":"SUM(K39:K41)","v":0},null,{"$f":"SUM(M39:M41)","v":0},null,{"$f":"SUM(O39:O41)","v":0},null,{"$f":"SUM(Q39:Q41)","v":0}]
[]
["(f) Travel (Prime)"]
[null,null,null,null,0,null,0,null,0,null,0,null,0,null,0,null,{"$f":"E45+G45+I45+K45+M45+O45","v":0}]
[null,null,null,null,0,null,0,null,0,null,0,null,0,null,0,null,{"$f":"E46+G46+I46+K46+M46+O46","v":0}]
[null,null,null,null,0,null,0,null,0,null,0,null,0,null,0,null,0]
["Subtotal",null,null,null,{"$f":"SUM(E45:E47)","v":0},null,{"$f":"SUM(G45:G47)","v":0},null,{"$f":"SUM(I45:I47)","v":0},null,{"$f":"SUM(K45:K47)","v":0},null,{"$f":"SUM(M45:M47)","v":0},null,{"$f":"SUM(O45:O47)","v":0},null,{"$f":"SUM(Q45:Q47)","v":0}]
[]
[]
["(g) Employee Benefit Plan (Prime)",null,null,null,0,null,0,null,0,null,0,null,0,null,0,null,{"$f":"E51+G51+I51+K51+M51+O51","v":0}]
[]
["TOTAL DIRECT COSTS",null,null,null,{"$f":"E18+E24+E30+E36+E42+E48+E51","v":0},null,{"$f":"G18+G24+G30+G36+G42+G48+G51","v":0},null,{"$f":"I18+I24+I30+I36+I42+I48+I51","v":0},null,{"$f":"K18+K24+K30+K36+K42+K48+K51","v":0},null,{"$f":"M18+M24+M30+M36+M42+M48+M51","v":0},null,{"$f":"O18+O24+O30+O36+O42+O48+O51","v":0},null,{"$f":"Q18+Q24+Q30+Q36+Q42+Q48+Q51","v":0}]
["Overhead on Subcontracts",null,null,null,{"$f":"#REF!/#REF!*$C54","v":{"$error":"#REF!"}},null,{"$f":"#REF!/#REF!*$C54","v":{"$error":"#REF!"}},null,{"$f":"#REF!/#REF!*$C54","v":{"$error":"#REF!"}},null,{"$f":"#REF!/#REF!*$C54","v":{"$error":"#REF!"}},null,{"$f":"#REF!/#REF!*$C54","v":{"$error":"#REF!"}},null,{"$f":"#REF!/#REF!*$C54","v":{"$error":"#REF!"}},null,{"$f":"E54+G54+I54+K54","v":{"$error":"#REF!"}}]
[]
["(h) Overhead (Prime)",null,null,null,0,null,0,null,0,null,0,null,0,null,0,null,{"$f":"E56+G56+I56+K56+M56+O56","v":0}]
["(i) Profit (Prime) (not to exceed 10%)",null,null,null,0,null,0,null,0,null,0,null,0,null,0,null,{"$f":"E57+G57+I57+K57+M57+O57","v":0}]
[]
["TOTAL PROJECT COSTS",null,null,null,{"$f":"E53+E56+E57","v":0},null,{"$f":"G53+G56+G57","v":0},null,{"$f":"I53+I56+I57","v":0},null,{"$f":"K53+K56+K57","v":0},null,{"$f":"M53+M56+M57","v":0},null,{"$f":"O53+O56+O57","v":0},null,{"$f":"Q53+Q57+Q56","v":0}]
[null,null,null," "]
[]
["Overhead/Indirect Costs:  Projects will be subject to federal flow-through funding regulations.  Entities are required to provide documentation of a federally negotiated indirect cost rate agreement or federally approved rates, or acceptance of 10% de minimus rate indirect costs."]
["Costs under this Agreement are subject to FAA Contract Cost Principles AMS T3.3.2.  These funds will serve to reimburse all reasonable, allowable, and allocable costs, profit or fee not to exceed 10%."]

{"sheet":"Other Orgs","index":1,"n_rows":49,"n_cols":17,"rows_kept":49,"cut":false,"hidden":false,"merged":[[12,0,13,2],[12,3,13,4],[12,5,13,6],[12,7,13,8],[12,9,13,10],[12,15,13,16],[0,0,0,16],[2,0,2,16],[4,0,4,2],[4,3,4,4],[4,5,4,6],[4,7,4,8],[4,9,4,10],[11,15,11,16],[4,11,4,12],[4,13,4,14],[4,15,4,16],[10,0,10,2],[11,0,11,2],[11,3,11,4],[11,5,11,6],[11,7,11,8],[11,9,11,10],[3,0,3,16],[14,15,17,15],[15,0,15,2],[16,0,16,2],[17,0,17,2],[14,0,14,2],[14,3,17,3],[14,5,17,5],[14,7,17,7],[14,9,17,9],[18,0,18,2],[19,0,20,2],[19,3,20,4],[19,5,20,6],[19,7,20,8],[19,9,20,10],[14,11,17,11],[14,13,17,13],[25,0,25,2],[25,3,25,4],[25,5,25,6],[25,7,25,8],[25,9,25,10],[21,5,24,5],[21,7,24,7],[21,9,24,9],[23,0,23,2],[24,0,24,2],[26,15,27,16],[28,15,31,15],[29,0,29,2],[30,0,30,2],[31,0,31,2],[28,0,28,2],[28,3,31,3],[28,5,31,5],[47,0,47,16],[48,0,48,16],[32,7,32,8],[32,9,32,10],[32,15,32,16],[42,0,42,2],[43,0,43,2],[43,3,43,4],[43,5,43,6],[43,7,43,8],[43,9,43,10],[41,0,41,2],[41,3,41,4],[41,5,41,6],[41,7,41,8],[41,9,41,10],[41,15,41,16],[43,15,43,16],[36,0,36,2],[32,0,32,2],[32,3,32,4],[32,5,32,6],[39,0,39,2],[40,0,40,2],[1,0,1,16],[38,0,38,2],[38,3,38,4],[38,5,38,6],[38,7,38,8],[38,9,38,10],[38,15,38,16],[34,0,34,2],[35,0,35,2],[33,0,33,2],[37,0,37,2],[28,7,31,7],[28,9,31,9],[26,0,27,2],[26,3,27,4],[26,5,27,6],[26,7,27,8],[25,15,25,16],[26,9,27,10],[19,15,20,16],[21,0,21,2],[21,3,24,3],[21,15,24,15],[22,0,22,2]]}
[" Consultant and Subcontract Budget Detail ACPT Project No. _______"]
[]
["Organization Name:  "]
[]
["Salaries and Wages",null,null,{"$f":"'Prime Budget'!D6","v":"Task"},null,{"$f":"'Prime Budget'!F6","v":"Task"},null,{"$f":"'Prime Budget'!H6","v":"Task"},null,{"$f":"'Prime Budget'!J6","v":"Task"},null,{"$f":"'Prime Budget'!L6","v":"Task"},null,{"$f":"'Prime Budget'!N6","v":"Task"},null,"TOTAL"]
["Name","Role in Study","Direct Hourly Rate","Hours","Cost","Hours","Cost","Hours","Cost","Hours","Cost","Hours","Cost","Hours","Cost","Hours","Cost"]
[null,null,0,null,{"$f":"$C7*D7","v":0},null,{"$f":"$C7*F7","v":0},null,{"$f":"$C7*H7","v":0},null,{"$f":"$C7*J7","v":0},null,{"$f":"$C7*L7","v":0},null,{"$f":"$C7*N7","v":0},{"$f":"+D7+F7+H7+J7+L7+N7","v":0},{"$f":"+$C7*P7","v":0}]
[null,null,0,null,{"$f":"$C8*D8","v":0},null,0,null,{"$f":"$C8*H8","v":0},null,{"$f":"$C8*J8","v":0},null,{"$f":"$C8*L8","v":0},null,{"$f":"$C8*N8","v":0},{"$f":"+D8+F8+H8+J8+L8+N8","v":0},{"$f":"+$C8*P8","v":0}]
[null,null,0,null,0,null,{"$f":"$C9*F9","v":0},null,0,null,0,null,0,null,0,0,0]
[null,null,0,null,0,null,0,null,0,null,0,null,0,null,0,0,0]
["Subtotal",null,null,{"$f":"SUM(D7:D10)","v":0},0,0,0,0,0,0,0,0,0,0,0,0,0]
[]
["Materials and Supplies"]
[]
[null,null,null,null,0,null,0,null,0,null,0,null,0,null,0,null,{"$f":"+E15+G15+I15+K15+M15+O15","v":0}]
[null,null,null,null,0,null,0,null,0,null,0,null,0,null,0,null,{"$f":"+E16+G16+I16+K16+M16+O16","v":0}]
[null,null,null,null,0,null,0,null,0,null,0,null,0,null,0,null,0]
["Subtotal",null,null,null,{"$f":"SUM(E15:E17)","v":0},null,{"$f":"SUM(G15:G17)","v":0},null,{"$f":"SUM(I15:I17)","v":0},null,{"$f":"SUM(K15:K17)","v":0},null,{"$f":"SUM(M15:M17)","v":0},null,{"$f":"SUM(O15:O17)","v":0},null,{"$f":"SUM(Q15:Q17)","v":0}]
[]
["Services "]
[]
[null,null,null,null,0,null,0,null,0,null,0,null,0,null,0,null,{"$f":"+E22+G22+I22+K22+M22+O22","v":0}]
[null,null,null,null,0,null,0,null,0,null,0,null,0,null,0,null,{"$f":"+E23+G23+I23+K23+M23+O23","v":0}]
[null,null,null,null,0,null,0,null,0,null,0,null,0,null,0,null,0]
["Subtotal",null,null,null,{"$f":"SUM(E22:E24)","v":0},null,{"$f":"SUM(G22:G24)","v":0},null,{"$f":"SUM(I22:I24)","v":0},null,{"$f":"SUM(K22:K24)","v":0},null,{"$f":"SUM(M22:M24)","v":0},null,{"$f":"SUM(O22:O24)","v":0},null,{"$f":"SUM(Q22:Q24)","v":0}]
[]
["Travel"]
[]
[null,null,null,null,0,null,0,null,0,null,0,null,0,null,0,null,{"$f":"+E29+G29+I29+K29+M29+O29","v":0}]
[null,null,null,null,0,null,0,null,0,null,0,null,0,null,0,null,{"$f":"+E30+G30+I30+K30+M30+O30","v":0}]
[null,null,null,null,0,null,0,null,0,null,0,null,0,null,0,null,0]
["Subtotal",null,null,null,{"$f":"SUM(E29:E31)","v":0},null,{"$f":"SUM(G29:G31)","v":0},null,{"$f":"SUM(I29:I31)","v":0},null,{"$f":"SUM(K29:K31)","v":0},null,{"$f":"SUM(M29:M31)","v":0},null,{"$f":"SUM(O29:O31)","v":0},null,{"$f":"SUM(Q29:Q31)","v":0}]
[]
[]
["Employee Benefit Plan",null,null,null,0,null,0,null,0,null,0,null,0,null,0,null,{"$f":"E35+G35+I35+K35+M35+O35","v":0}]
[]
["Total Direct Costs",null,null,null,{"$f":"E11+E18+E25+E32+E35","v":0},null,{"$f":"G11+G18+G25+G32+G35","v":0},null,0,null,0,null,0,null,0,null,{"$f":"Q11+Q18+Q25+Q32+Q35","v":0}]
[]
[]
["Overhead",null,null,null,0,null,0,null,0,null,0,null,0,null,0,null,{"$f":"+E40+G40+I40+K40+M40+O40","v":0}]
["Profit (not to exceed 10%)",null,null,null,0,null,0,null,0,null,0,null,0,null,0,null,{"$f":"+E41+G41+I41+K41+M41+O41","v":0}]
[]
["TOTAL PROJECT COSTS",null,null,null,{"$f":"E37+E41","v":0},null,{"$f":"G37+G41","v":0},null,{"$f":"I37+I41","v":0},null,{"$f":"K37+K41","v":0},null,{"$f":"M37+M41","v":0},null,{"$f":"O37+O41","v":0},null,{"$f":"Q37+Q40+Q41","v":0}]
[]
[]
["*Use this form for consultants, and subcontractors, one form per entity."]
[]
["Overhead/Indirect Costs:  Projects will be subject to federal flow-through funding regulations.  Entities are required to provide documentation of a federally negotiated indirect cost rate agreement or federally approved rates, or acceptance of 10% de minimus rate indirect costs."]
["Costs under this Agreement are subject to FAA Contract Cost Principles AMS T3.3.2.  These funds will serve to reimburse all reasonable, allowable, and allocable costs, and may include a reasonable profit, not to exceed 10%."]